BEGIN:VCALENDAR
VERSION:2.0
PRODID:researchseminars.org
CALSCALE:GREGORIAN
X-WR-CALNAME:researchseminars.org
BEGIN:VEVENT
SUMMARY:Bernd Siebert (UT Austin)
DTSTART:20220725T103000Z
DTEND:20220725T113000Z
DTSTAMP:20260423T005726Z
UID:looijenga/1
DESCRIPTION:Title: <a href="https://researchseminars.org/talk/looijenga/1/
 ">Punctured Invariants</a>\nby Bernd Siebert (UT Austin) as part of Mirror
  symmetry for Looijenga interiors and beyond\n\nAbstract: TBA\n
LOCATION:https://researchseminars.org/talk/looijenga/1/
END:VEVENT
END:VCALENDAR
