BEGIN:VCALENDAR
VERSION:2.0
PRODID:researchseminars.org
CALSCALE:GREGORIAN
X-WR-CALNAME:researchseminars.org
BEGIN:VEVENT
SUMMARY:Istvan Prause
DTSTART:20211103T170000Z
DTEND:20211103T180000Z
DTSTAMP:20260423T021332Z
UID:lattice/36
DESCRIPTION:Title: <a href="https://researchseminars.org/talk/lattice/36/"
 >Integrability of limit shapes</a>\nby Istvan Prause as part of Solvable L
 attice Models Seminar\n\nAbstract: TBA\n
LOCATION:https://researchseminars.org/talk/lattice/36/
END:VEVENT
END:VCALENDAR
