BEGIN:VCALENDAR
VERSION:2.0
PRODID:researchseminars.org
CALSCALE:GREGORIAN
X-WR-CALNAME:researchseminars.org
BEGIN:VEVENT
SUMMARY:Arun Ram (University of Melbourne)
DTSTART:20210616T210000Z
DTEND:20210616T220000Z
DTSTAMP:20260423T005812Z
UID:lattice/22
DESCRIPTION:Title: <a href="https://researchseminars.org/talk/lattice/22/"
 >Level 0 modules of affine Lie algebras</a>\nby Arun Ram (University of Me
 lbourne) as part of Solvable Lattice Models Seminar\n\nAbstract: TBA\n
LOCATION:https://researchseminars.org/talk/lattice/22/
END:VEVENT
END:VCALENDAR
