BEGIN:VCALENDAR
VERSION:2.0
PRODID:researchseminars.org
CALSCALE:GREGORIAN
X-WR-CALNAME:researchseminars.org
BEGIN:VEVENT
SUMMARY:Richard Schwartz (Brown University)
DTSTART:20211209T130000Z
DTEND:20211209T140000Z
DTSTAMP:20260423T041236Z
UID:k-os/61
DESCRIPTION:Title: <a href="https://researchseminars.org/talk/k-os/61/">On
  the optimal paper Moebius band</a>\nby Richard Schwartz (Brown University
 ) as part of [K-OS] Knot online seminar\n\nAbstract: TBA\n
LOCATION:https://researchseminars.org/talk/k-os/61/
END:VEVENT
END:VCALENDAR
