BEGIN:VCALENDAR
VERSION:2.0
PRODID:researchseminars.org
CALSCALE:GREGORIAN
X-WR-CALNAME:researchseminars.org
BEGIN:VEVENT
SUMMARY:Julien Marché (Université Paris Sorbonne)
DTSTART:20200409T120000Z
DTEND:20200409T130000Z
DTSTAMP:20260423T041219Z
UID:k-os/6
DESCRIPTION:Title: <a href="https://researchseminars.org/talk/k-os/6/">Aut
 omorphisms of the character variety of a surface</a>\nby Julien Marché (U
 niversité Paris Sorbonne) as part of [K-OS] Knot online seminar\n\nAbstra
 ct: TBA\n
LOCATION:https://researchseminars.org/talk/k-os/6/
END:VEVENT
END:VCALENDAR
