BEGIN:VCALENDAR
VERSION:2.0
PRODID:researchseminars.org
CALSCALE:GREGORIAN
X-WR-CALNAME:researchseminars.org
BEGIN:VEVENT
SUMMARY:Liam Watson (University of British Columbia)
DTSTART:20211104T140000Z
DTEND:20211104T150000Z
DTSTAMP:20260423T040811Z
UID:k-os/59
DESCRIPTION:Title: <a href="https://researchseminars.org/talk/k-os/59/">Im
 mersed curve invariants in low-dimensions</a>\nby Liam Watson (University 
 of British Columbia) as part of [K-OS] Knot online seminar\n\nAbstract: TB
 A\n
LOCATION:https://researchseminars.org/talk/k-os/59/
END:VEVENT
END:VCALENDAR
