BEGIN:VCALENDAR
VERSION:2.0
PRODID:researchseminars.org
CALSCALE:GREGORIAN
X-WR-CALNAME:researchseminars.org
BEGIN:VEVENT
SUMMARY:Paolo Bellingeri (Université de Caen)
DTSTART:20211028T120000Z
DTEND:20211028T130000Z
DTSTAMP:20260423T041220Z
UID:k-os/55
DESCRIPTION:Title: <a href="https://researchseminars.org/talk/k-os/55/">Vi
 rtual Artin groups</a>\nby Paolo Bellingeri (Université de Caen) as part 
 of [K-OS] Knot online seminar\n\nAbstract: TBA\n
LOCATION:https://researchseminars.org/talk/k-os/55/
END:VEVENT
END:VCALENDAR
