BEGIN:VCALENDAR
VERSION:2.0
PRODID:researchseminars.org
CALSCALE:GREGORIAN
X-WR-CALNAME:researchseminars.org
BEGIN:VEVENT
SUMMARY:Agnès Gadbled (Université Paris--Saclay)
DTSTART:20210527T120000Z
DTEND:20210527T130000Z
DTSTAMP:20260423T040740Z
UID:k-os/46
DESCRIPTION:Title: <a href="https://researchseminars.org/talk/k-os/46/">We
 instein handlebody diagrams for complements of smoothed toric divisors</a>
 \nby Agnès Gadbled (Université Paris--Saclay) as part of [K-OS] Knot onl
 ine seminar\n\nAbstract: TBA\n
LOCATION:https://researchseminars.org/talk/k-os/46/
END:VEVENT
END:VCALENDAR
