BEGIN:VCALENDAR
VERSION:2.0
PRODID:researchseminars.org
CALSCALE:GREGORIAN
X-WR-CALNAME:researchseminars.org
BEGIN:VEVENT
SUMMARY:Andrew Lobb (Durham University)
DTSTART:20210408T120000Z
DTEND:20210408T130000Z
DTSTAMP:20260423T041157Z
UID:k-os/39
DESCRIPTION:Title: <a href="https://researchseminars.org/talk/k-os/39/">Fo
 ur-sided pegs fitting round holes fit all smooth holes</a>\nby Andrew Lobb
  (Durham University) as part of [K-OS] Knot online seminar\n\nAbstract: TB
 A\n
LOCATION:https://researchseminars.org/talk/k-os/39/
END:VEVENT
END:VCALENDAR
