BEGIN:VCALENDAR
VERSION:2.0
PRODID:researchseminars.org
CALSCALE:GREGORIAN
X-WR-CALNAME:researchseminars.org
BEGIN:VEVENT
SUMMARY:Fathi Ben Aribi (Université Catholique de Louvain)
DTSTART:20200924T120000Z
DTEND:20200924T130000Z
DTSTAMP:20260423T022841Z
UID:k-os/19
DESCRIPTION:Title: <a href="https://researchseminars.org/talk/k-os/19/">Th
 e Teichmüller TQFT volume conjecture for twist knots</a>\nby Fathi Ben Ar
 ibi (Université Catholique de Louvain) as part of [K-OS] Knot online semi
 nar\n\nAbstract: TBA\n
LOCATION:https://researchseminars.org/talk/k-os/19/
END:VEVENT
END:VCALENDAR
