BEGIN:VCALENDAR
VERSION:2.0
PRODID:researchseminars.org
CALSCALE:GREGORIAN
X-WR-CALNAME:researchseminars.org
BEGIN:VEVENT
SUMMARY:Roya Mohayaee (Sorbonne University\, France)
DTSTART:20260507T133000Z
DTEND:20260507T143000Z
DTSTAMP:20260423T021457Z
UID:jomarec/51
DESCRIPTION:Title: <a href="https://researchseminars.org/talk/jomarec/51/"
 >Optimal Transport theory and its applications in cosmology</a>\nby Roya M
 ohayaee (Sorbonne University\, France) as part of JoMaReC - Joint Online M
 athematical Relativity Colloquium\n\n\nAbstract\nI will begin with a conci
 se review of the fundamental ideas underlying optimal transport theory\, b
 efore illustrating how these concepts naturally emerge in cosmological con
 texts and provide a powerful framework for addressing the problem of cosmo
 logical reconstruction. I will then highlight how optimal transport extend
 s beyond its analytical utility in handling big data\, and demonstrate int
 riguing connections with certain theories of modified gravity.\n
LOCATION:https://researchseminars.org/talk/jomarec/51/
END:VEVENT
END:VCALENDAR
