BEGIN:VCALENDAR
VERSION:2.0
PRODID:researchseminars.org
CALSCALE:GREGORIAN
X-WR-CALNAME:researchseminars.org
BEGIN:VEVENT
SUMMARY:Marcus Khuri (Stony Brook University)
DTSTART:20221006T133000Z
DTEND:20221006T143000Z
DTSTAMP:20260423T023048Z
UID:jomarec/20
DESCRIPTION:Title: <a href="https://researchseminars.org/talk/jomarec/20/"
 >Level Set Methods in Mathematical GR</a>\nby Marcus Khuri (Stony Brook Un
 iversity) as part of JoMaReC - Joint Online Mathematical Relativity Colloq
 uium\n\n\nAbstract\nWe will review recent developments concerning the use 
 of level set techniques associated with solutions to elliptic equations\, 
 in particular spacetime harmonic functions\, and their application to posi
 tive mass theorems and comparison geometry.\n
LOCATION:https://researchseminars.org/talk/jomarec/20/
END:VEVENT
END:VCALENDAR
