BEGIN:VCALENDAR
VERSION:2.0
PRODID:researchseminars.org
CALSCALE:GREGORIAN
X-WR-CALNAME:researchseminars.org
BEGIN:VEVENT
SUMMARY:Badri Krishnan (Radboud University Nijmegen)
DTSTART:20220901T133000Z
DTEND:20220901T143000Z
DTSTAMP:20260423T023044Z
UID:jomarec/19
DESCRIPTION:Title: <a href="https://researchseminars.org/talk/jomarec/19/"
 >A quasi-local view of black hole mergers</a>\nby Badri Krishnan (Radboud 
 University Nijmegen) as part of JoMaReC - Joint Online Mathematical Relati
 vity Colloquium\n\n\nAbstract\nIn this talk I will summarize recent progre
 ss and open mathematical problems in understanding black hole mergers quas
 i-locally\, i.e. by using marginally trapped surfaces instead of event hor
 izons.\n
LOCATION:https://researchseminars.org/talk/jomarec/19/
END:VEVENT
END:VCALENDAR
