BEGIN:VCALENDAR
VERSION:2.0
PRODID:researchseminars.org
CALSCALE:GREGORIAN
X-WR-CALNAME:researchseminars.org
BEGIN:VEVENT
SUMMARY:Haruhisa Enomoto (Nagoya University)
DTSTART:20201123T091000Z
DTEND:20201123T100000Z
DTSTAMP:20260421T093739Z
UID:icra2020/18
DESCRIPTION:Title: <a href="https://researchseminars.org/talk/icra2020/18/
 ">ICE-closed subcategories and wide τ-tilting modules</a>\nby Haruhisa En
 omoto (Nagoya University) as part of ICRA 2020\n\nAbstract: TBA\n
LOCATION:https://researchseminars.org/talk/icra2020/18/
END:VEVENT
END:VCALENDAR
