BEGIN:VCALENDAR
VERSION:2.0
PRODID:researchseminars.org
CALSCALE:GREGORIAN
X-WR-CALNAME:researchseminars.org
BEGIN:VEVENT
SUMMARY:Hsian-Hua Tseng (Ohio State University)
DTSTART:20201229T013000Z
DTEND:20201229T023000Z
DTSTAMP:20260423T010101Z
UID:iccm2020/97
DESCRIPTION:Title: <a href="https://researchseminars.org/talk/iccm2020/97/
 ">Root constructions and Gromov-Witten theory</a>\nby Hsian-Hua Tseng (Ohi
 o State University) as part of ICCM 2020\n\n\nAbstract\nRoot constructions
  are geometric ways to introduce stack structures in codimensions 0 and 1.
  In this talk we review these constructions and discuss how they affect Gr
 omov-Witten theory.\n\n2910349950\n
LOCATION:https://researchseminars.org/talk/iccm2020/97/
END:VEVENT
END:VCALENDAR
