BEGIN:VCALENDAR
VERSION:2.0
PRODID:researchseminars.org
CALSCALE:GREGORIAN
X-WR-CALNAME:researchseminars.org
BEGIN:VEVENT
SUMMARY:Bing Wang/王兵 (USTC)
DTSTART:20201227T071500Z
DTEND:20201227T081500Z
DTSTAMP:20260423T024652Z
UID:iccm2020/9
DESCRIPTION:Title: <a href="https://researchseminars.org/talk/iccm2020/9/"
 >The local entropy along Ricci flow</a>\nby Bing Wang/王兵 (USTC) as par
 t of ICCM 2020\n\n\nAbstract\nWe localize the entropy functionals of G. Pe
 relman and generalize his no-local-collapsing theorem and pseudo-locality 
 theorem. Our generalization is technically inspired by further development
  of Li-Yau estimates along the Ricci flow. It has various applications\, i
 ncluding to show the continuous dependence of the Ricci flow with respect 
 to the initial metric in Gromov-Hausdorff topology with Ricci curvature bo
 unded below\, and to show the compactness of the moduli of Kähler manifol
 ds with bounded scalar curvature and a rough locally almost Euclidean cond
 ition.\n
LOCATION:https://researchseminars.org/talk/iccm2020/9/
END:VEVENT
END:VCALENDAR
