BEGIN:VCALENDAR
VERSION:2.0
PRODID:researchseminars.org
CALSCALE:GREGORIAN
X-WR-CALNAME:researchseminars.org
BEGIN:VEVENT
SUMMARY:Chong Zhang/张翀 (南京大学)
DTSTART:20201229T081500Z
DTEND:20201229T090000Z
DTSTAMP:20260423T024653Z
UID:iccm2020/77
DESCRIPTION:Title: <a href="https://researchseminars.org/talk/iccm2020/77/
 ">Regular supercuspidal representations and applications</a>\nby Chong Zha
 ng/张翀 (南京大学) as part of ICCM 2020\n\n\nAbstract\nRegular super
 cuspidal representations are recently introduced by Kaletha\, which are a 
 subclass of tame supercuspidal representations. This new construction has 
 many applications in the representation theory of p-adic reductive groups.
  I will discuss the distinction problem for these representations\, and al
 so its relation with the local theta correspondence.\n
LOCATION:https://researchseminars.org/talk/iccm2020/77/
END:VEVENT
END:VCALENDAR
