BEGIN:VCALENDAR
VERSION:2.0
PRODID:researchseminars.org
CALSCALE:GREGORIAN
X-WR-CALNAME:researchseminars.org
BEGIN:VEVENT
SUMMARY:Zhengyu Hu /胡正宇
DTSTART:20201229T070000Z
DTEND:20201229T081500Z
DTSTAMP:20260423T024647Z
UID:iccm2020/73
DESCRIPTION:Title: <a href="https://researchseminars.org/talk/iccm2020/73/
 ">Minimal model theory for log canonical pairs</a>\nby Zhengyu Hu /胡正
 宇 as part of ICCM 2020\n\n\nAbstract\nIn this talk\, I will discuss rece
 nt progress on minimal model theory for log canonical pairs. In the minima
 l model program(MMP) one can quantify the type of singularities which occu
 r: the simplest MMP-singularities are called “terminal” and the most c
 omplex ones are the so-called "log canonical". There are others in between
 \, for example\, the "Kawamata log terminal" singularities that are most w
 idely used. I will give an inductive argument of extending results from th
 e Kawamata log terminal pairs to log canonical pairs. Part of this talk is
  based on joint work with Kenta Hashizume.\n
LOCATION:https://researchseminars.org/talk/iccm2020/73/
END:VEVENT
END:VCALENDAR
