BEGIN:VCALENDAR
VERSION:2.0
PRODID:researchseminars.org
CALSCALE:GREGORIAN
X-WR-CALNAME:researchseminars.org
BEGIN:VEVENT
SUMMARY:Xin Zhou 周鑫 (Cornell University)
DTSTART:20201229T070000Z
DTEND:20201229T081500Z
DTSTAMP:20260423T024744Z
UID:iccm2020/71
DESCRIPTION:Title: <a href="https://researchseminars.org/talk/iccm2020/71/
 ">Existence of constant mean curvature hypersurfaces</a>\nby Xin Zhou 周
 鑫 (Cornell University) as part of ICCM 2020\n\n\nAbstract\nWe will surve
 y some recent progress on the existence of closed CMC hypersurfaces.\n
LOCATION:https://researchseminars.org/talk/iccm2020/71/
END:VEVENT
END:VCALENDAR
