BEGIN:VCALENDAR
VERSION:2.0
PRODID:researchseminars.org
CALSCALE:GREGORIAN
X-WR-CALNAME:researchseminars.org
BEGIN:VEVENT
SUMMARY:Yongsheng Zhang (Tongji University)
DTSTART:20201228T074500Z
DTEND:20201228T083000Z
DTSTAMP:20260423T024030Z
UID:iccm2020/59
DESCRIPTION:Title: <a href="https://researchseminars.org/talk/iccm2020/59/
 ">On the non-existence of solutions to the Dirichlet problem for minimal s
 urface system</a>\nby Yongsheng Zhang (Tongji University) as part of ICCM 
 2020\n\n\nAbstract\nIn this talk，we will show how to generalize the non-
 existence result by Lawson-Osserman.\n
LOCATION:https://researchseminars.org/talk/iccm2020/59/
END:VEVENT
END:VCALENDAR
