BEGIN:VCALENDAR
VERSION:2.0
PRODID:researchseminars.org
CALSCALE:GREGORIAN
X-WR-CALNAME:researchseminars.org
BEGIN:VEVENT
SUMMARY:Bangti Jin (UCL\, UK)
DTSTART:20201228T070000Z
DTEND:20201228T074500Z
DTSTAMP:20260423T023931Z
UID:iccm2020/54
DESCRIPTION:Title: <a href="https://researchseminars.org/talk/iccm2020/54/
 ">Numerical methods for time-fractional diffusion</a>\nby Bangti Jin (UCL\
 , UK) as part of ICCM 2020\n\n\nAbstract\nDuring the past decade\, parabol
 ic equations involving a fractional-order derivative in time have received
  much attention\, and a large number of numerical methods have been develo
 ped. Many of these existing methods were developed by assuming that the so
 lution is sufficiently smooth\, which however is generally not true. In th
 is talk\, I will describe our works on developing and analyzing and robust
  numerical schemes that do not assume solution regularity directly\, but o
 nly data regularity.\n
LOCATION:https://researchseminars.org/talk/iccm2020/54/
END:VEVENT
END:VCALENDAR
