BEGIN:VCALENDAR
VERSION:2.0
PRODID:researchseminars.org
CALSCALE:GREGORIAN
X-WR-CALNAME:researchseminars.org
BEGIN:VEVENT
SUMMARY:Xiangdi Huang (中科院数学与系统科学研究院)
DTSTART:20201228T070000Z
DTEND:20201228T074500Z
DTSTAMP:20260423T023931Z
UID:iccm2020/52
DESCRIPTION:Title: <a href="https://researchseminars.org/talk/iccm2020/52/
 ">Global classical and weak solutions to the three-dimensional full compre
 ssible Navier-Stokes system with vacuum and large oscillations</a>\nby Xia
 ngdi Huang (中科院数学与系统科学研究院) as part of ICCM 2020\
 n\n\nAbstract\nFor the three-dimensional full compressible Navier–Stokes
  system describing the motion of a viscous\, compressible\, heat-conductiv
 e\, and Newtonian polytropic fluid\, we establish the global existence and
  uniqueness of classical solutions with smooth initial data which are of s
 mall energy but possibly large oscillations where the initial density is a
 llowed to vanish. Moreover\, for the initial data\, which may be discontin
 uous and contain vacuum states\, we also obtain the global existence of we
 ak solutions. These results generalize previous ones on classical and weak
  solutions for initial density being strictly away from a vacuum\, and are
  the first for global classical and weak solutions which may have large os
 cillations and can contain vacuum states.\n
LOCATION:https://researchseminars.org/talk/iccm2020/52/
END:VEVENT
END:VCALENDAR
