BEGIN:VCALENDAR
VERSION:2.0
PRODID:researchseminars.org
CALSCALE:GREGORIAN
X-WR-CALNAME:researchseminars.org
BEGIN:VEVENT
SUMMARY:Mao Sheng (USTC)
DTSTART:20201228T013000Z
DTEND:20201228T023000Z
DTSTAMP:20260423T024027Z
UID:iccm2020/34
DESCRIPTION:Title: <a href="https://researchseminars.org/talk/iccm2020/34/
 ">Arithmetic semisimplicity theorem</a>\nby Mao Sheng (USTC) as part of IC
 CM 2020\n\n\nAbstract\nIn this lecture\, I would like to talk on an arithm
 etic version of the Deligne' semisimplicity theorem.\n
LOCATION:https://researchseminars.org/talk/iccm2020/34/
END:VEVENT
END:VCALENDAR
