BEGIN:VCALENDAR
VERSION:2.0
PRODID:researchseminars.org
CALSCALE:GREGORIAN
X-WR-CALNAME:researchseminars.org
BEGIN:VEVENT
SUMMARY:Huichun Zhang/张会春 (SYSU)
DTSTART:20201227T091500Z
DTEND:20201227T100000Z
DTSTAMP:20260423T024027Z
UID:iccm2020/23
DESCRIPTION:Title: <a href="https://researchseminars.org/talk/iccm2020/23/
 ">Some results on the Lipschitz Regularity of harmonic maps between singul
 ar spaces</a>\nby Huichun Zhang/张会春 (SYSU) as part of ICCM 2020\n\n\
 nAbstract\nIn this talk\, we will introduce some results on the program ab
 out the Lipschitz regularity and gradient estimates for harmonic maps from
 /between the singular metric spaces with curvature bounded from below/abov
 e in the sense of comparison triangles. This talk is based on some joint w
 orks with Xi-Ping Zhu\, Xiao Zhong\, and Huabin Ge and Wenshuai Jiang.\n
LOCATION:https://researchseminars.org/talk/iccm2020/23/
END:VEVENT
END:VCALENDAR
