BEGIN:VCALENDAR
VERSION:2.0
PRODID:researchseminars.org
CALSCALE:GREGORIAN
X-WR-CALNAME:researchseminars.org
BEGIN:VEVENT
SUMMARY:Rasmus Waagepetersen (Aalborg University)
DTSTART:20250110T100000Z
DTEND:20250110T104500Z
DTSTAMP:20260422T155025Z
UID:gbgstats/82
DESCRIPTION:Title: <a href="https://researchseminars.org/talk/gbgstats/82/
 ">Point process approaches to study clustering of industry locations</a>\n
 by Rasmus Waagepetersen (Aalborg University) as part of Gothenburg statist
 ics seminar\n\nLecture held in MVL15.\n\nAbstract\nIn this talk we will di
 scuss various point process approaches to study clustering of industry loc
 ations. Industries (shops\, firms\, supermarkets\, factories...) can be of
  various types and clustering (or possibly repulsion) could happen within 
 industries of the same type or between industries of different types. We r
 eview a seminal contribution in spatial econometrics and discuss its relat
 ion to recent semi-parametric point process models including semi-parametr
 ic log Gaussian Cox processes and semi-parametric Markov point processes. 
 For the semi-parametric models we in particular consider how parameter est
 imates can be obtained using certain conditional composite likelihoods.\n\
 nRoom: MVL15\n
LOCATION:https://researchseminars.org/talk/gbgstats/82/
END:VEVENT
END:VCALENDAR
