BEGIN:VCALENDAR
VERSION:2.0
PRODID:researchseminars.org
CALSCALE:GREGORIAN
X-WR-CALNAME:researchseminars.org
BEGIN:VEVENT
SUMMARY:Aila Särkkä (Chalmers University of Technology & University of G
 othenburg)
DTSTART:20241211T121500Z
DTEND:20241211T130000Z
DTSTAMP:20260422T155052Z
UID:gbgstats/75
DESCRIPTION:Title: <a href="https://researchseminars.org/talk/gbgstats/75/
 ">Analysis of point patterns observed with errors: some examples</a>\nby A
 ila Särkkä (Chalmers University of Technology & University of Gothenburg
 ) as part of Gothenburg statistics seminar\n\nLecture held in MVL14.\n\nAb
 stract\nMany natural systems are observed as point patterns in time\, spac
 e\, or space and time. Examples include plant and cellular systems\, anima
 l colonies\, wildfires\, and galaxies. In practice\, the locations of the 
 points are not always observed correctly. However\, in the point process l
 iterature\, little attention has been paid to the issue of errors in the l
 ocations of points. In this talk\, we discuss how the observed point patte
 rn may deviate from the actual point pattern\, review methods and models t
 hat exist to handle such deviations\, and give some examples of data obser
 ved with errors. \n\nBased on joint work with Peter Guttorp (Norwegian Com
 puting Center)\, Janine Illian (University of Glasgow)\, Joel Kostensalo (
 Natural Resources Institute Finland (Luke)\, Mikko Kuronen (Luke)\, Mari M
 yllymäki (Luke)\, and Thordis Thorarinsdottir (University of Oslo).\n
LOCATION:https://researchseminars.org/talk/gbgstats/75/
END:VEVENT
END:VCALENDAR
