BEGIN:VCALENDAR
VERSION:2.0
PRODID:researchseminars.org
CALSCALE:GREGORIAN
X-WR-CALNAME:researchseminars.org
BEGIN:VEVENT
SUMMARY:Devdatt Dubhashi (Chalmers)
DTSTART:20230928T111500Z
DTEND:20230928T120000Z
DTSTAMP:20260422T155052Z
UID:gbgstats/33
DESCRIPTION:Title: <a href="https://researchseminars.org/talk/gbgstats/33/
 ">Bandits: Structured and Constrained</a>\nby Devdatt Dubhashi (Chalmers) 
 as part of Gothenburg statistics seminar\n\nLecture held in MVL14.\n\nAbst
 ract\nI will give an introduction and invitation to Bandits - a very simpl
 e\, yet central model of sequential decision making under uncertainty. Aft
 er introducing the central concepts and some of the basic algorithms and r
 esults\, I'll describe some recent work from our group on some extensions 
 of the basic model which are also useful in applications. Throughout I'll 
 try to show how the subject has close connections to information theory\, 
 statistics and optimization.\n
LOCATION:https://researchseminars.org/talk/gbgstats/33/
END:VEVENT
END:VCALENDAR
