BEGIN:VCALENDAR
VERSION:2.0
PRODID:researchseminars.org
CALSCALE:GREGORIAN
X-WR-CALNAME:researchseminars.org
BEGIN:VEVENT
SUMMARY:Julia Jansson
DTSTART:20250403T143000Z
DTEND:20250403T150000Z
DTSTAMP:20260423T021338Z
UID:gbgphd/9
DESCRIPTION:Title: <a href="https://researchseminars.org/talk/gbgphd/9/">M
 y research visit to UCLA</a>\nby Julia Jansson as part of Gothenburg PhD s
 eminar\n\nLecture held in MVL14.\n\nAbstract\nI will present my experience
  during my research visit at UCLA including more informal aspects like pro
 s and cons\, PhD life in the US and life in LA. Then\, without going into 
 too much mathematical details\, I will explain my research project\, which
  is about modeling earthquakes with spatio-temporal point processes\, and 
 put it into the wider context of natural disasters in California. Lastly I
  will also mention how to finance a research stay using travel grants.\n
LOCATION:https://researchseminars.org/talk/gbgphd/9/
END:VEVENT
END:VCALENDAR
