BEGIN:VCALENDAR
VERSION:2.0
PRODID:researchseminars.org
CALSCALE:GREGORIAN
X-WR-CALNAME:researchseminars.org
BEGIN:VEVENT
SUMMARY:Jenny Enerbäck
DTSTART:20260223T153000Z
DTEND:20260223T160000Z
DTSTAMP:20260423T040039Z
UID:gbgphd/40
DESCRIPTION:Title: <a href="https://researchseminars.org/talk/gbgphd/40/">
 What is the problem with generalized eigenvalue problems?</a>\nby Jenny En
 erbäck as part of Gothenburg PhD seminar\n\nLecture held in MVL14.\n\nAbs
 tract\nWhat are generalized problems about? How are they different from "n
 ormal" eigenvalue problems? And what could go wrong...? All this\, and mor
 e\, Monday afternoon!\n
LOCATION:https://researchseminars.org/talk/gbgphd/40/
END:VEVENT
END:VCALENDAR
