BEGIN:VCALENDAR
VERSION:2.0
PRODID:researchseminars.org
CALSCALE:GREGORIAN
X-WR-CALNAME:researchseminars.org
BEGIN:VEVENT
SUMMARY:Adrien Malacan
DTSTART:20251120T150000Z
DTEND:20251120T153000Z
DTSTAMP:20260423T040037Z
UID:gbgphd/23
DESCRIPTION:Title: <a href="https://researchseminars.org/talk/gbgphd/23/">
 The Curie point and the Ising model : when spins rebel.</a>\nby Adrien Mal
 acan as part of Gothenburg PhD seminar\n\nLecture held in MVL14.\n\nAbstra
 ct\nLet's do a home experiment.\n\nTake two magnetized pieces of iron stuc
 k together (everyone has a pair lying around at home). Now\, simply heat t
 hem to about 770°C\, or 1043 K\, for the SI purists. Surprise: the two pi
 eces of iron no longer stick together! You may now clean your setup (if it
  hasn't burned) and return to your math research.\n\nIn this talk\, we wil
 l see why probability theory saw this coming - and why this exact temperat
 ure is less random than you might think.\n
LOCATION:https://researchseminars.org/talk/gbgphd/23/
END:VEVENT
END:VCALENDAR
