BEGIN:VCALENDAR
VERSION:2.0
PRODID:researchseminars.org
CALSCALE:GREGORIAN
X-WR-CALNAME:researchseminars.org
BEGIN:VEVENT
SUMMARY:Mathis Rost (PhD student)
DTSTART:20250522T143000Z
DTEND:20250522T150000Z
DTSTAMP:20260423T040036Z
UID:gbgphd/17
DESCRIPTION:Title: <a href="https://researchseminars.org/talk/gbgphd/17/">
 A Brief Introduction to Spatial Point Processes</a>\nby Mathis Rost (PhD s
 tudent) as part of Gothenburg PhD seminar\n\nLecture held in MVL14.\n\nAbs
 tract\nIn this talk\, I’ll give a brief and\, of course\, mostly visuall
 y pleasing introduction to my research area: spatial statistics. We’ll b
 egin with some general characteristics and a few real-world examples where
  point process models naturally arise. I’ll then introduce some key conc
 epts\, like intensity-based models and conditional intensity-based models\
 , which form the backbone of spatial statistics. Toward the end\, I’ll t
 ouch on one of the topics from my first research paper (don’t worry\, I
 ’ll keep the math simple!).\n
LOCATION:https://researchseminars.org/talk/gbgphd/17/
END:VEVENT
END:VCALENDAR
