BEGIN:VCALENDAR
VERSION:2.0
PRODID:researchseminars.org
CALSCALE:GREGORIAN
X-WR-CALNAME:researchseminars.org
BEGIN:VEVENT
SUMMARY:Erik Jansson
DTSTART:20241211T150000Z
DTEND:20241211T160000Z
DTSTAMP:20260423T024025Z
UID:gbgphd/1
DESCRIPTION:Title: <a href="https://researchseminars.org/talk/gbgphd/1/">A
 n actual real-life application of geodesic equations on Lie groups: protei
 ns</a>\nby Erik Jansson as part of Gothenburg PhD seminar\n\nLecture held 
 in MVL15.\n\nAbstract\nWhat is in the intersection of optimization\, geome
 tric mechanics and protein imaging? The contents of this talk! I have stud
 ied how to solve the problem of reconstructing protein conformations from 
 very noisy electron microscopy images\, using techniques from geometric sh
 ape matching. By deforming an initial template using the action of a suita
 ble Lie group in an optimal way\, we can reconstruct the indirectly observ
 ed target conformation of the protein. In this talk\, I hope to introduce 
 you to the beautiful concept of shape matching in a way that is FUN (Frien
 dly Understanding for Novices). References will be provided for those look
 ing to learn more.\n
LOCATION:https://researchseminars.org/talk/gbgphd/1/
END:VEVENT
END:VCALENDAR
