BEGIN:VCALENDAR
VERSION:2.0
PRODID:researchseminars.org
CALSCALE:GREGORIAN
X-WR-CALNAME:researchseminars.org
BEGIN:VEVENT
SUMMARY:Rostyslav Kryvoshyia (Kropyvnytskyi Construction Professional Coll
 ege)
DTSTART:20250306T133000Z
DTEND:20250306T150000Z
DTSTAMP:20260423T004729Z
UID:fran/65
DESCRIPTION:Title: <a href="https://researchseminars.org/talk/fran/65/">On
  some metric results and constructions for the classical continued fractio
 n representation of real numbers</a>\nby Rostyslav Kryvoshyia (Kropyvnytsk
 yi Construction Professional College) as part of Семінар з фра
 ктального аналізу / Fractal analysis seminar\n\n\nAbstract
 \nIn this talk\, we discuss some metric results for the classical continue
 d fraction representation of real numbers\, which complement the classical
  results of A. Khinchin and P. Lévy. For the metric conditions considered
  in the talk\, the corresponding constructions of numbers are given.\n
LOCATION:https://researchseminars.org/talk/fran/65/
END:VEVENT
END:VCALENDAR
