BEGIN:VCALENDAR
VERSION:2.0
PRODID:researchseminars.org
CALSCALE:GREGORIAN
X-WR-CALNAME:researchseminars.org
BEGIN:VEVENT
SUMMARY:Mykola Pratsiovytyi (Mykhailo Drahomanov Ukrainian State Universit
 y\; Institute of Mathematics\, Natl. Acad. Sci. Ukraine)
DTSTART:20231207T133000Z
DTEND:20231207T150000Z
DTSTAMP:20260423T005744Z
UID:fran/45
DESCRIPTION:Title: <a href="https://researchseminars.org/talk/fran/45/">С
 емінар\, присвячений пам'яті завідувачів
  відділу динамічних систем та фрактальн
 ого аналізу О. Шарковського і С. Коляди / T
 he seminar dedicated to memory of heads of the Dynamical Systems and Fract
 al Analysis Department\, O. Sharkovsky and S. Kolyada</a>\nby Mykola Prats
 iovytyi (Mykhailo Drahomanov Ukrainian State University\; Institute of Mat
 hematics\, Natl. Acad. Sci. Ukraine) as part of Семінар з фрак
 тального аналізу / Fractal analysis seminar\n\n\nAbstract\n
 Ми плануємо поговорити про історію відд
 ілу і вшанувати пам'ять наших колег: докт
 ора фізико-математичних наук\, професора
 \, академіка НАН України Олександра Мико
 лайовича Шарковського (7 груд. 1936 р. – 21 л
 истоп. 2022 р.) і доктора фізико-математичн
 их наук\, професора Сергія Федоровича Ко
 ляди (7 груд. 1957 р. – 16 трав. 2018 р.).\n\nПісля 
 основної доповіді очікується відкрита д
 искусія. Усі учасники семінару зможуть в
 исловитися і поділитися своїми спогадам
 и.\n\nWe plan to discuss history of the department and commemorate our co
 lleagues: Doctor of Physical and Mathematical Sciences\, Professor\, Acade
 mician of NAS Ukraine Oleksandr M. Sharkovsky (Dec 7\, 1936 – Nov 21\, 2
 022) and Doctor of Physical and Mathematical Sciences\, Professor Sergiy F
 . Kolyada (Dec 7\, 1957 – May 16\, 2018).\n\nAfter the main talk\, the o
 pen discussion is expected. All participants of the seminar will be able t
 o speak and share their memories.\n
LOCATION:https://researchseminars.org/talk/fran/45/
END:VEVENT
END:VCALENDAR
