BEGIN:VCALENDAR
VERSION:2.0
PRODID:researchseminars.org
CALSCALE:GREGORIAN
X-WR-CALNAME:researchseminars.org
BEGIN:VEVENT
SUMMARY:Mykola Pratsiovytyi (Mykhailo Drahomanov Ukrainian State Universit
 y\; Institute of Mathematics\, Natl. Acad. Sci. Ukraine)
DTSTART:20231102T133000Z
DTEND:20231102T150000Z
DTSTAMP:20260423T004756Z
UID:fran/41
DESCRIPTION:Title: <a href="https://researchseminars.org/talk/fran/41/">Н
 ескінченні згортки Бернуллі і множини н
 еповних сум числових рядів / Infinite Bernoulli con
 volutions and sets of incomplete sums of numerical series</a>\nby Mykola P
 ratsiovytyi (Mykhailo Drahomanov Ukrainian State University\; Institute of
  Mathematics\, Natl. Acad. Sci. Ukraine) as part of Семінар з фр
 актального аналізу / Fractal analysis seminar\n\n\nAbstra
 ct\nДоповідь присвячено взаємозв'язку дво
 х напрямів сучасних наукових досліджень
 : 1) геометрії числових рядів\, ядром якої 
 є тополого-метричний і фрактальний анал
 із множин неповних сум (підсум) числових 
 рядів\, і 2) теорії нескінченних згорток Б
 ернуллі\, які є розподілами сум збіжних р
 ядів незалежних дискретних випадкових в
 еличин.\n\nОкрему увагу буде приділено пр
 облемам\, пов'язаним зі згортками сингул
 ярних розподілів\, зокрема сингулярних р
 озподілів канторівського типу\, зі струк
 турними і спектральними властивостями н
 ескінченних згорток Бернуллі\, з поведін
 кою модуля характеристичної функції на 
 нескінченності тощо.\n\nThe talk is devoted to interrela
 tion between two directions of modern scientific research: 1) the geometry
  of numerical series whose kernel is a topological\, metric\, and fractal 
 analysis of sets of incomplete sums (subsums) of numerical series and 2) t
 he theory of infinite Bernoulli convolutions\, which are probability distr
 ibutions of sums of convergent series of independent discrete random varia
 bles.\n\nProblems related to convolutions of singular probability distribu
 tions\, particularly Cantor-type singular probability distributions\, to s
 tructural and spectral properties of infinite Bernoulli convolutions\, to 
 behaviour of the absolute value of a characteristic function at infinity\,
  etc. will be discussed in detail.\n
LOCATION:https://researchseminars.org/talk/fran/41/
END:VEVENT
END:VCALENDAR
