BEGIN:VCALENDAR
VERSION:2.0
PRODID:researchseminars.org
CALSCALE:GREGORIAN
X-WR-CALNAME:researchseminars.org
BEGIN:VEVENT
SUMMARY:Mykola Moroz (Institute of Mathematics\, Natl. Acad. Sci. Ukraine)
DTSTART:20230831T133000Z
DTEND:20230831T140000Z
DTSTAMP:20260423T004913Z
UID:fran/38
DESCRIPTION:Title: <a href="https://researchseminars.org/talk/fran/38/">Ф
 ункції з фрактальними властивостями\, по
 в'язані з представленнями чисел рядами Е
 нгеля та Остроградського–Серпінського
 –Пірса / Functions with fractal properties related to representatio
 ns of numbers by Engel and Ostrogradsky–Sierpiński–Pierce series</a>\
 nby Mykola Moroz (Institute of Mathematics\, Natl. Acad. Sci. Ukraine) as 
 part of Семінар з фрактального аналізу / Fracta
 l analysis seminar\n\n\nAbstract\nЗвіт аспіранта / PhD studen
 t's report\n
LOCATION:https://researchseminars.org/talk/fran/38/
END:VEVENT
END:VCALENDAR
