BEGIN:VCALENDAR
VERSION:2.0
PRODID:researchseminars.org
CALSCALE:GREGORIAN
X-WR-CALNAME:researchseminars.org
BEGIN:VEVENT
SUMMARY:Eugen Andreev
DTSTART:20230209T133000Z
DTEND:20230209T143000Z
DTSTAMP:20260423T004917Z
UID:fran/30
DESCRIPTION:Title: <a href="https://researchseminars.org/talk/fran/30/">Ф
 рактальна геометрія Всесвіту / Fractal geometry 
 of the Universe</a>\nby Eugen Andreev as part of Семінар з фра
 ктального аналізу / Fractal analysis seminar\n\nLecture he
 ld in Room 448 in the National Pedagogical Dragomanov University.\nAbstrac
 t: TBA\n
LOCATION:https://researchseminars.org/talk/fran/30/
END:VEVENT
END:VCALENDAR
