BEGIN:VCALENDAR
VERSION:2.0
PRODID:researchseminars.org
CALSCALE:GREGORIAN
X-WR-CALNAME:researchseminars.org
BEGIN:VEVENT
SUMMARY:Mykola Moroz (Institute of Mathematics\, Natl. Acad. Sci. Ukraine)
DTSTART:20211007T123000Z
DTEND:20211007T140000Z
DTSTAMP:20260423T024559Z
UID:fran/19
DESCRIPTION:Title: <a href="https://researchseminars.org/talk/fran/19/">З
 адача Гаусса–Кузьміна для різницевого 
 представлення дійсних чисел рядами Енге
 ля / Gauss–Kuzmin problem for difference Engel series representation o
 f real numbers</a>\nby Mykola Moroz (Institute of Mathematics\, Natl. Acad
 . Sci. Ukraine) as part of Семінар з фрактального ан
 алізу / Fractal analysis seminar\n\nLecture held in Room 456 in the N
 ational Pedagogical Dragomanov University.\n\nAbstract\nДоповідь 
 присвячена множинам дійсних чисел з $(0\; 1
 ]$\, що задані умовами на їхні цифри у різн
 ицевому представленні рядами Енгеля. Зо
 крема\, сформульовано та розв'язано зада
 чу про різницеве представлення дійсних 
 чисел рядами Енгеля\, яка є аналогічною д
 о задачі Гаусса–Кузьміна щодо ланцюгов
 их дробів.\n\nIn the talk\, we consider sets of real numbers from 
 $(0\, 1]$ defined by conditions on their digits of the difference Engel se
 ries representation. In particular\, the so-called Gauss–Kuzmin problem 
 for the difference Engel series representation of real numbers is introduc
 ed and solved. This is an analogue of the corresponding problem for contin
 ued fractions.\n
LOCATION:https://researchseminars.org/talk/fran/19/
END:VEVENT
END:VCALENDAR
