BEGIN:VCALENDAR
VERSION:2.0
PRODID:researchseminars.org
CALSCALE:GREGORIAN
X-WR-CALNAME:researchseminars.org
BEGIN:VEVENT
SUMMARY:Mykola Leonenko (Cardiff School of Mathematics\, UK)
DTSTART:20200604T123000Z
DTEND:20200604T140000Z
DTSTAMP:20260423T004759Z
UID:fran/1
DESCRIPTION:Title: <a href="https://researchseminars.org/talk/fran/1/">Л
 екція про мультифрактальність / Lecture on mult
 ifractality</a>\nby Mykola Leonenko (Cardiff School of Mathematics\, UK) a
 s part of Семінар з фрактального аналізу / Frac
 tal analysis seminar\n\n\nAbstract\nУ лекції буде зробле
 но огляд різних підходів до мультифракт
 альності з&nbsp\;прикладами. Буде представ
 лено мультифрактальні добутки випадков
 их процесів і випадкових полів з деякими
  подробицями і сценаріями. Доповідь ґрун
 тується на спільних роботах [1–10].\n\nThis lect
 ure presents is a survey of different approaches to multifractality with e
 xamples. The multifractal products of stochastic processes and random fiel
 ds is presented with some details and scenarios. The talk is based on the 
 joint papers&nbsp\;[1–10].\n\n[1] Leonenko\, N.N.\, Nanayakkara\, R.\, a
 nd Olenko\, A. (2020). arXiv:2004.14522.<br>\n[2] Grahovac\, D. and Leonen
 ko\, N.N. (2018). Fractals\, 26(4)\, 1850055\, 21 pp.<br>\n[3] Denisov\, D
 . and Leonenko\, N. (2016). Bernoulli\, 22(4)\, 2579–2608.<br>\n[4] Deni
 sov\, D.E. and Leonenko\, N.N. (2016). Stoch. Anal. Appl.\, 34(4)\, 610–
 643.<br>\n[5] Grahovac\, D. and Leonenko\, N.N. (2014). Chaos Solitons Fra
 ctals\, 65\, 78–89.<br>\n[6] Leonenko\, N.N. and Shieh\, N.-R. (2013). F
 ractals\, 21(2)\, 1350009\, 13 pp.<br>\n[7] Anh\, V.V.\, Leonenko\, N.N.\,
  Shieh\, N.-R.\, and Taufer\, E. (2010). Nonlinearity\, 23(4)\, 823–843.
 <br>\n[8] Anh\, V.V.\, Leonenko\, N.N.\, and Shieh\, N.-R. (2009). Bernoul
 li\, 15(2)\, 508–531.<br>\n[9] Anh\, V.V.\, Leonenko\, N.N.\, and Shieh\
 , N.-R. (2008). Adv. in Appl. Probab.\, 40(4)\, 1129–1156.<br>\n[10] Anh
 \, V.V.\, Leonenko\, N.N.\, and Shieh\, N.-R. (2009). Stoch. Anal. Appl.\,
  27(3)\, 475–499.\n
LOCATION:https://researchseminars.org/talk/fran/1/
END:VEVENT
END:VCALENDAR
