BEGIN:VCALENDAR
VERSION:2.0
PRODID:researchseminars.org
CALSCALE:GREGORIAN
X-WR-CALNAME:researchseminars.org
BEGIN:VEVENT
SUMMARY:Igor Dolinka (University of Novi Sad)
DTSTART:20200624T120000Z
DTEND:20200624T130000Z
DTSTAMP:20260423T005841Z
UID:eNBSAN/1
DESCRIPTION:Title: <a href="https://researchseminars.org/talk/eNBSAN/1/">T
 he prefix membership problem for one-relator groups\, and its semigroup-th
 eoretical cousins</a>\nby Igor Dolinka (University of Novi Sad) as part of
  eNBSAN (the electronic seminar of the North British Semigroups & Applicat
 ions Network)\n\nAbstract: TBA\n
LOCATION:https://researchseminars.org/talk/eNBSAN/1/
END:VEVENT
END:VCALENDAR
