BEGIN:VCALENDAR
VERSION:2.0
PRODID:researchseminars.org
CALSCALE:GREGORIAN
X-WR-CALNAME:researchseminars.org
BEGIN:VEVENT
SUMMARY:Dylan Wilson
DTSTART:20210316T160000Z
DTEND:20210316T170000Z
DTSTAMP:20260423T021421Z
UID:eAKTS/16
DESCRIPTION:Title: <a href="https://researchseminars.org/talk/eAKTS/16/">L
 ichtenbaum-Quillen phenomena in chromatic homotopy theory</a>\nby Dylan Wi
 lson as part of electronic Algebraic K-theory Seminar\n\nLecture held in 9
 79 0634 7355.\nAbstract: TBA\n
LOCATION:https://researchseminars.org/talk/eAKTS/16/
END:VEVENT
END:VCALENDAR
