BEGIN:VCALENDAR
VERSION:2.0
PRODID:researchseminars.org
CALSCALE:GREGORIAN
X-WR-CALNAME:researchseminars.org
BEGIN:VEVENT
SUMMARY:Marc Hoyois (Regensburg)
DTSTART:20200929T160000Z
DTEND:20200929T170000Z
DTSTAMP:20260423T021427Z
UID:eAKTS/13
DESCRIPTION:Title: <a href="https://researchseminars.org/talk/eAKTS/13/">M
 ilnor excision for motivic spectra</a>\nby Marc Hoyois (Regensburg) as par
 t of electronic Algebraic K-theory Seminar\n\nLecture held in 915 7106 904
 1.\n\nAbstract\nIt is a classical result of Weibel that homotopy invariant
  algebraic K-theory satisfies excision\, in the sense that for any ring $A
 $ and ideal $I \\subset A$\, the fiber of  $KH(A) \\rightarrow KH(A/I)$ de
 pends only on $I$ as a nonunital ring. In joint work with Elden Elmanto\, 
 Ryomei Iwasa\, and Shane Kelly\, we show that this is true more generally 
 for any cohomology theory represented by a motivic spectrum.\n
LOCATION:https://researchseminars.org/talk/eAKTS/13/
END:VEVENT
END:VCALENDAR
