BEGIN:VCALENDAR
VERSION:2.0
PRODID:researchseminars.org
CALSCALE:GREGORIAN
X-WR-CALNAME:researchseminars.org
BEGIN:VEVENT
SUMMARY:Valerie Domcke (CERN)
DTSTART:20210119T143000Z
DTEND:20210119T153000Z
DTSTAMP:20260423T024552Z
UID:cosmo2021/5
DESCRIPTION:Title: <a href="https://researchseminars.org/talk/cosmo2021/5/
 ">Inflation and the origin of perturbations – 2 of 5</a>\nby Valerie Dom
 cke (CERN) as part of IV Joint ICTP-Trieste/ICTP-SAIFR School on Cosmology
 : Challenges for the Standard Cosmological Model\n\nAbstract: TBA\n
LOCATION:https://researchseminars.org/talk/cosmo2021/5/
END:VEVENT
END:VCALENDAR
