BEGIN:VCALENDAR
VERSION:2.0
PRODID:researchseminars.org
CALSCALE:GREGORIAN
X-WR-CALNAME:researchseminars.org
BEGIN:VEVENT
SUMMARY:Gilyoung Cheong (University of Michigan)
DTSTART:20200730T183000Z
DTEND:20200730T193000Z
DTSTAMP:20260423T035826Z
UID:combisem/8
DESCRIPTION:Title: <a href="https://researchseminars.org/talk/combisem/8/"
 >P\\'olya enumeration theorems in algebraic geometry</a>\nby Gilyoung Cheo
 ng (University of Michigan) as part of Algebraic and enumerative combinato
 rics seminar\n\nAbstract: TBA\n
LOCATION:https://researchseminars.org/talk/combisem/8/
END:VEVENT
END:VCALENDAR
