BEGIN:VCALENDAR
VERSION:2.0
PRODID:researchseminars.org
CALSCALE:GREGORIAN
X-WR-CALNAME:researchseminars.org
BEGIN:VEVENT
SUMMARY:Amy Wiebe (Freie Universität Berlin)
DTSTART:20210401T170000Z
DTEND:20210401T180000Z
DTSTAMP:20260423T021234Z
UID:combisem/32
DESCRIPTION:Title: <a href="https://researchseminars.org/talk/combisem/32/
 ">A combinatorial approach to Minkowski tensors of polytopes</a>\nby Amy W
 iebe (Freie Universität Berlin) as part of Algebraic and enumerative comb
 inatorics seminar\n\nAbstract: TBA\n
LOCATION:https://researchseminars.org/talk/combisem/32/
END:VEVENT
END:VCALENDAR
