BEGIN:VCALENDAR
VERSION:2.0
PRODID:researchseminars.org
CALSCALE:GREGORIAN
X-WR-CALNAME:researchseminars.org
BEGIN:VEVENT
SUMMARY:David Wagner (University of Waterloo)
DTSTART:20210318T170000Z
DTEND:20210318T180000Z
DTSTAMP:20260423T021355Z
UID:combisem/31
DESCRIPTION:Title: <a href="https://researchseminars.org/talk/combisem/31/
 ">The Poset Conjecture: results\, counterexamples\, and open problems</a>\
 nby David Wagner (University of Waterloo) as part of Algebraic and enumera
 tive combinatorics seminar\n\nAbstract: TBA\n
LOCATION:https://researchseminars.org/talk/combisem/31/
END:VEVENT
END:VCALENDAR
