BEGIN:VCALENDAR
VERSION:2.0
PRODID:researchseminars.org
CALSCALE:GREGORIAN
X-WR-CALNAME:researchseminars.org
BEGIN:VEVENT
SUMMARY:Christos Athanasiadis (University of Athens)
DTSTART:20201112T180000Z
DTEND:20201112T190000Z
DTSTAMP:20260423T021402Z
UID:combisem/16
DESCRIPTION:Title: <a href="https://researchseminars.org/talk/combisem/16/
 ">Face enumeration and real-rootedness</a>\nby Christos Athanasiadis (Univ
 ersity of Athens) as part of Algebraic and enumerative combinatorics semin
 ar\n\nAbstract: TBA\n
LOCATION:https://researchseminars.org/talk/combisem/16/
END:VEVENT
END:VCALENDAR
