BEGIN:VCALENDAR
VERSION:2.0
PRODID:researchseminars.org
CALSCALE:GREGORIAN
X-WR-CALNAME:researchseminars.org
BEGIN:VEVENT
SUMMARY:Jenna Rajchgot (University of Saskatchewan)
DTSTART:20200426T150000Z
DTEND:20200426T160000Z
DTSTAMP:20260423T041159Z
UID:cazoom/5
DESCRIPTION:Title: <a href="https://researchseminars.org/talk/cazoom/5/">G
 eometric vertex decomposition and liaison</a>\nby Jenna Rajchgot (Universi
 ty of Saskatchewan) as part of CAZoom\n\nAbstract: TBA\n
LOCATION:https://researchseminars.org/talk/cazoom/5/
END:VEVENT
END:VCALENDAR
