BEGIN:VCALENDAR
VERSION:2.0
PRODID:researchseminars.org
CALSCALE:GREGORIAN
X-WR-CALNAME:researchseminars.org
BEGIN:VEVENT
SUMMARY:Jeffrey Adams (University of Maryland)
DTSTART:20220210T153000Z
DTEND:20220210T170000Z
DTSTAMP:20260422T150025Z
UID:atlas/6
DESCRIPTION:Title: <a href="https://researchseminars.org/talk/atlas/6/">Th
 e Atlas Way (More on KGB)</a>\nby Jeffrey Adams (University of Maryland) a
 s part of Real reductive groups/atlas\n\n\nAbstract\nExplain the notion of
  "strong real form\," which is central to how atlas writes down Langlands 
 parameters.\n
LOCATION:https://researchseminars.org/talk/atlas/6/
END:VEVENT
END:VCALENDAR
