BEGIN:VCALENDAR
VERSION:2.0
PRODID:researchseminars.org
CALSCALE:GREGORIAN
X-WR-CALNAME:researchseminars.org
BEGIN:VEVENT
SUMMARY:NONE
DTSTART:20221006T143000Z
DTEND:20221006T160000Z
DTSTAMP:20260422T150250Z
UID:atlas/40
DESCRIPTION:Title: <a href="https://researchseminars.org/talk/atlas/40/">N
 O MEETING THIS WEEK!</a>\nby NONE as part of Real reductive groups/atlas\n
 \nAbstract: TBA\n
LOCATION:https://researchseminars.org/talk/atlas/40/
END:VEVENT
END:VCALENDAR
